BEGIN:VCALENDAR
VERSION:2.0
PRODID:-//Kalamazoo Dog Training Club - ECPv6.15.20//NONSGML v1.0//EN
CALSCALE:GREGORIAN
METHOD:PUBLISH
X-WR-CALNAME:Kalamazoo Dog Training Club
X-ORIGINAL-URL:https://kdtc.org
X-WR-CALDESC:Events for Kalamazoo Dog Training Club
REFRESH-INTERVAL;VALUE=DURATION:PT1H
X-Robots-Tag:noindex
X-PUBLISHED-TTL:PT1H
BEGIN:VTIMEZONE
TZID:America/Halifax
BEGIN:DAYLIGHT
TZOFFSETFROM:-0400
TZOFFSETTO:-0300
TZNAME:ADT
DTSTART:20240310T060000
END:DAYLIGHT
BEGIN:STANDARD
TZOFFSETFROM:-0300
TZOFFSETTO:-0400
TZNAME:AST
DTSTART:20241103T050000
END:STANDARD
BEGIN:DAYLIGHT
TZOFFSETFROM:-0400
TZOFFSETTO:-0300
TZNAME:ADT
DTSTART:20250309T060000
END:DAYLIGHT
BEGIN:STANDARD
TZOFFSETFROM:-0300
TZOFFSETTO:-0400
TZNAME:AST
DTSTART:20251102T050000
END:STANDARD
BEGIN:DAYLIGHT
TZOFFSETFROM:-0400
TZOFFSETTO:-0300
TZNAME:ADT
DTSTART:20260308T060000
END:DAYLIGHT
BEGIN:STANDARD
TZOFFSETFROM:-0300
TZOFFSETTO:-0400
TZNAME:AST
DTSTART:20261101T050000
END:STANDARD
BEGIN:DAYLIGHT
TZOFFSETFROM:-0400
TZOFFSETTO:-0300
TZNAME:ADT
DTSTART:20270314T060000
END:DAYLIGHT
BEGIN:STANDARD
TZOFFSETFROM:-0300
TZOFFSETTO:-0400
TZNAME:AST
DTSTART:20271107T050000
END:STANDARD
END:VTIMEZONE
BEGIN:VEVENT
DTSTART;VALUE=DATE:20260219
DTEND;VALUE=DATE:20260220
DTSTAMP:20260420T044329
CREATED:20251106T061248Z
LAST-MODIFIED:20251119T155213Z
UID:10000006-1771459200-1771545599@kdtc.org
SUMMARY:Spring Session Signup: February 19\, 2026
DESCRIPTION:Classes are one hour per week for 7 weeks at $110 for the session \nAfter you register online\, you will receive an email with a registration form to fill out & return.\nThis registration form and A copy of your pet’s vaccinations record must be received before the start of class.
URL:https://kdtc.org/event/spring-session-february-19-2026/
ATTACH;FMTTYPE=image/jpeg:https://kdtc.org/wp-content/uploads/2025/11/qtq80-r8KmfT-scaled.jpeg
END:VEVENT
BEGIN:VEVENT
DTSTART;VALUE=DATE:20260106
DTEND;VALUE=DATE:20260219
DTSTAMP:20260420T044329
CREATED:20251106T052508Z
LAST-MODIFIED:20251106T052508Z
UID:10000002-1767657600-1771459199@kdtc.org
SUMMARY:Winter Session:  January 6 – February 18\, 2026
DESCRIPTION:Classes are one hour per week for 7 weeks at $110 for the session \nAfter you register online\, you will receive an email with a registration form to fill out & return. This registration form and a copy of your pet’s vaccinations record must be received before the start of class.
URL:https://kdtc.org/event/winter-session-january-6-february-18-2026/
ATTACH;FMTTYPE=image/jpeg:https://kdtc.org/wp-content/uploads/2025/11/qtq80-AxuzZo.jpeg
END:VEVENT
BEGIN:VEVENT
DTSTART;VALUE=DATE:20251007
DTEND;VALUE=DATE:20251120
DTSTAMP:20260420T044329
CREATED:20250924T104820Z
LAST-MODIFIED:20250924T113400Z
UID:10000001-1759795200-1763596799@kdtc.org
SUMMARY:Fall Session - October 7 - November 19
DESCRIPTION:Classes are one hour per week for 7 weeks at $110 for the session \nAfter you register online\, you will receive an email with a registration form to fill out & return. This registration form and a copy of your pet’s vaccinations record must be received before the start of class.
URL:https://kdtc.org/event/fall-session-october-7-november-19/
ATTACH;FMTTYPE=image/jpeg:https://kdtc.org/wp-content/uploads/2025/09/GettyImages-1386197894-scaled.jpg
END:VEVENT
END:VCALENDAR