BEGIN:VCALENDAR
VERSION:2.0
PRODID:-//Kalamazoo Dog Training Club - ECPv6.15.20//NONSGML v1.0//EN
CALSCALE:GREGORIAN
METHOD:PUBLISH
X-WR-CALNAME:Kalamazoo Dog Training Club
X-ORIGINAL-URL:https://kdtc.org
X-WR-CALDESC:Events for Kalamazoo Dog Training Club
REFRESH-INTERVAL;VALUE=DURATION:PT1H
X-Robots-Tag:noindex
X-PUBLISHED-TTL:PT1H
BEGIN:VTIMEZONE
TZID:America/Halifax
BEGIN:DAYLIGHT
TZOFFSETFROM:-0400
TZOFFSETTO:-0300
TZNAME:ADT
DTSTART:20250309T060000
END:DAYLIGHT
BEGIN:STANDARD
TZOFFSETFROM:-0300
TZOFFSETTO:-0400
TZNAME:AST
DTSTART:20251102T050000
END:STANDARD
BEGIN:DAYLIGHT
TZOFFSETFROM:-0400
TZOFFSETTO:-0300
TZNAME:ADT
DTSTART:20260308T060000
END:DAYLIGHT
BEGIN:STANDARD
TZOFFSETFROM:-0300
TZOFFSETTO:-0400
TZNAME:AST
DTSTART:20261101T050000
END:STANDARD
BEGIN:DAYLIGHT
TZOFFSETFROM:-0400
TZOFFSETTO:-0300
TZNAME:ADT
DTSTART:20270314T060000
END:DAYLIGHT
BEGIN:STANDARD
TZOFFSETFROM:-0300
TZOFFSETTO:-0400
TZNAME:AST
DTSTART:20271107T050000
END:STANDARD
END:VTIMEZONE
BEGIN:VEVENT
DTSTART;VALUE=DATE:20260407
DTEND;VALUE=DATE:20260521
DTSTAMP:20260420T032036
CREATED:20251106T060403Z
LAST-MODIFIED:20251119T155132Z
UID:10000003-1775520000-1779321599@kdtc.org
SUMMARY:Spring Session:  April 7 – May 20\, 2026
DESCRIPTION:Classes are one hour per week for 7 weeks at $110 for the session \nAfter you register online\, you will receive an email with a registration form to fill out & return. This registration form and\nA copy of your pet’s vaccinations record must be received before the start of class.
URL:https://kdtc.org/event/spring-session-april-7-may-20-2026/
ATTACH;FMTTYPE=image/jpeg:https://kdtc.org/wp-content/uploads/2025/11/qtq80-A2r91h.jpeg
END:VEVENT
BEGIN:VEVENT
DTSTART;VALUE=DATE:20260521
DTEND;VALUE=DATE:20260522
DTSTAMP:20260420T032036
CREATED:20251106T061353Z
LAST-MODIFIED:20251119T155248Z
UID:10000007-1779321600-1779407999@kdtc.org
SUMMARY:Summer Session Signup: May 21\, 2026
DESCRIPTION:Classes are one hour per week for 7 weeks at $110 for the session \nAfter you register online\, you will receive an email with a registration form to fill out & return.\nThis registration form and A copy of your pet’s vaccinations record must be received before the start of class.
URL:https://kdtc.org/event/summer-session-may-21-2026/
ATTACH;FMTTYPE=image/jpeg:https://kdtc.org/wp-content/uploads/2025/11/qtq80-WKqRHD.jpeg
END:VEVENT
BEGIN:VEVENT
DTSTART;VALUE=DATE:20260707
DTEND;VALUE=DATE:20260820
DTSTAMP:20260420T032036
CREATED:20251106T060545Z
LAST-MODIFIED:20251119T155559Z
UID:10000004-1783382400-1787183999@kdtc.org
SUMMARY:Summer Session:  July 7 – August 19\, 2026
DESCRIPTION:Classes are one hour per week for 7 weeks at $110 for the session \nAfter you register online\, you will receive an email with a registration form to fill out & return.\nThis registration form and A copy of your pet’s vaccinations record must be received before the start of class.
URL:https://kdtc.org/event/summer-session-july-7-august-19-2026/
ATTACH;FMTTYPE=image/jpeg:https://kdtc.org/wp-content/uploads/2025/11/qtq80-zHUKas-scaled.jpeg
END:VEVENT
BEGIN:VEVENT
DTSTART;VALUE=DATE:20260820
DTEND;VALUE=DATE:20260821
DTSTAMP:20260420T032036
CREATED:20251106T061709Z
LAST-MODIFIED:20251119T155341Z
UID:10000008-1787184000-1787270399@kdtc.org
SUMMARY:Fall Session Signup: August 20\, 2026
DESCRIPTION:Classes are one hour per week for 7 weeks at $110 for the session \nAfter you register online\, you will receive an email with a registration form to fill out & return.\nThis registration form and A  copy of your pet’s vaccinations record must be received before the start of class.
URL:https://kdtc.org/event/fall-session-august-20-2026/
ATTACH;FMTTYPE=image/jpeg:https://kdtc.org/wp-content/uploads/2025/11/qtq80-uxkNmJ.jpeg
END:VEVENT
BEGIN:VEVENT
DTSTART;VALUE=DATE:20261006
DTEND;VALUE=DATE:20261119
DTSTAMP:20260420T032036
CREATED:20251106T060929Z
LAST-MODIFIED:20251119T155452Z
UID:10000005-1791244800-1795046399@kdtc.org
SUMMARY:Fall Session:  October 6 – November 18\, 2026
DESCRIPTION:Classes are one hour per week for 7 weeks at $110 for the session \nAfter you register online\, you will receive an email with a registration form to fill out & return.\nThis registration form and A copy of your pet’s vaccinations record must be received before the start of class.
URL:https://kdtc.org/event/fall-session-october-6-november-18-2026/
ATTACH;FMTTYPE=image/jpeg:https://kdtc.org/wp-content/uploads/2025/11/qtq80-YvNxMa-scaled.jpeg
END:VEVENT
END:VCALENDAR